BEGIN:VCALENDAR
VERSION:2.0
PRODID:-//Castle Community Church - ECPv6.15.20//NONSGML v1.0//EN
CALSCALE:GREGORIAN
METHOD:PUBLISH
X-ORIGINAL-URL:https://www.castlecommunitychurch.org.uk
X-WR-CALDESC:Events for Castle Community Church
REFRESH-INTERVAL;VALUE=DURATION:PT1H
X-Robots-Tag:noindex
X-PUBLISHED-TTL:PT1H
BEGIN:VTIMEZONE
TZID:Europe/London
BEGIN:DAYLIGHT
TZOFFSETFROM:+0000
TZOFFSETTO:+0100
TZNAME:BST
DTSTART:20240331T010000
END:DAYLIGHT
BEGIN:STANDARD
TZOFFSETFROM:+0100
TZOFFSETTO:+0000
TZNAME:GMT
DTSTART:20241027T010000
END:STANDARD
BEGIN:DAYLIGHT
TZOFFSETFROM:+0000
TZOFFSETTO:+0100
TZNAME:BST
DTSTART:20250330T010000
END:DAYLIGHT
BEGIN:STANDARD
TZOFFSETFROM:+0100
TZOFFSETTO:+0000
TZNAME:GMT
DTSTART:20251026T010000
END:STANDARD
BEGIN:DAYLIGHT
TZOFFSETFROM:+0000
TZOFFSETTO:+0100
TZNAME:BST
DTSTART:20260329T010000
END:DAYLIGHT
BEGIN:STANDARD
TZOFFSETFROM:+0100
TZOFFSETTO:+0000
TZNAME:GMT
DTSTART:20261025T010000
END:STANDARD
END:VTIMEZONE
BEGIN:VEVENT
DTSTART;TZID=Europe/London:20250928T104500
DTEND;TZID=Europe/London:20250928T120000
DTSTAMP:20260424T034201
CREATED:20170511T085913Z
LAST-MODIFIED:20250811T051829Z
UID:2008-1759056300-1759060800@www.castlecommunitychurch.org.uk
SUMMARY:Morning Worship
DESCRIPTION:Our Preacher is Mr Michael Ridley. \nOur service starts at 10.45am. \nWe then enjoy Tea\, Coffee and Biscuits in the School Room. \nThis allows us to catch up with friends and have a chat. \nAll are welcome.
URL:https://www.castlecommunitychurch.org.uk/event/morning-worship-61/
CATEGORIES:Worship
END:VEVENT
END:VCALENDAR