BEGIN:VCALENDAR
VERSION:2.0
PRODID:-//Castle Community Church - ECPv6.15.20//NONSGML v1.0//EN
CALSCALE:GREGORIAN
METHOD:PUBLISH
X-ORIGINAL-URL:https://www.castlecommunitychurch.org.uk
X-WR-CALDESC:Events for Castle Community Church
REFRESH-INTERVAL;VALUE=DURATION:PT1H
X-Robots-Tag:noindex
X-PUBLISHED-TTL:PT1H
BEGIN:VTIMEZONE
TZID:Europe/London
BEGIN:DAYLIGHT
TZOFFSETFROM:+0000
TZOFFSETTO:+0100
TZNAME:BST
DTSTART:20250330T010000
END:DAYLIGHT
BEGIN:STANDARD
TZOFFSETFROM:+0100
TZOFFSETTO:+0000
TZNAME:GMT
DTSTART:20251026T010000
END:STANDARD
BEGIN:DAYLIGHT
TZOFFSETFROM:+0000
TZOFFSETTO:+0100
TZNAME:BST
DTSTART:20260329T010000
END:DAYLIGHT
BEGIN:STANDARD
TZOFFSETFROM:+0100
TZOFFSETTO:+0000
TZNAME:GMT
DTSTART:20261025T010000
END:STANDARD
BEGIN:DAYLIGHT
TZOFFSETFROM:+0000
TZOFFSETTO:+0100
TZNAME:BST
DTSTART:20270328T010000
END:DAYLIGHT
BEGIN:STANDARD
TZOFFSETFROM:+0100
TZOFFSETTO:+0000
TZNAME:GMT
DTSTART:20271031T010000
END:STANDARD
END:VTIMEZONE
BEGIN:VEVENT
DTSTART;TZID=Europe/London:20260517T104500
DTEND;TZID=Europe/London:20260517T120000
DTSTAMP:20260423T163237
CREATED:20170511T090031Z
LAST-MODIFIED:20260218T055022Z
UID:2113-1779014700-1779019200@www.castlecommunitychurch.org.uk
SUMMARY:Morning Worship
DESCRIPTION:The service starts at 10.45am. \nWe then enjoy Tea\, Coffee and Biscuits in the School Room. \nThis allows us to catch up with friends and have a chat. \nAll are welcome. \n 
URL:https://www.castlecommunitychurch.org.uk/event/morning-worship-73/
CATEGORIES:Worship
END:VEVENT
END:VCALENDAR