BEGIN:VCALENDAR
VERSION:2.0
PRODID:-//Castle Community Church - ECPv6.15.20//NONSGML v1.0//EN
CALSCALE:GREGORIAN
METHOD:PUBLISH
X-WR-CALNAME:Castle Community Church
X-ORIGINAL-URL:https://www.castlecommunitychurch.org.uk
X-WR-CALDESC:Events for Castle Community Church
REFRESH-INTERVAL;VALUE=DURATION:PT1H
X-Robots-Tag:noindex
X-PUBLISHED-TTL:PT1H
BEGIN:VTIMEZONE
TZID:Europe/London
BEGIN:DAYLIGHT
TZOFFSETFROM:+0000
TZOFFSETTO:+0100
TZNAME:BST
DTSTART:20240331T010000
END:DAYLIGHT
BEGIN:STANDARD
TZOFFSETFROM:+0100
TZOFFSETTO:+0000
TZNAME:GMT
DTSTART:20241027T010000
END:STANDARD
BEGIN:DAYLIGHT
TZOFFSETFROM:+0000
TZOFFSETTO:+0100
TZNAME:BST
DTSTART:20250330T010000
END:DAYLIGHT
BEGIN:STANDARD
TZOFFSETFROM:+0100
TZOFFSETTO:+0000
TZNAME:GMT
DTSTART:20251026T010000
END:STANDARD
BEGIN:DAYLIGHT
TZOFFSETFROM:+0000
TZOFFSETTO:+0100
TZNAME:BST
DTSTART:20260329T010000
END:DAYLIGHT
BEGIN:STANDARD
TZOFFSETFROM:+0100
TZOFFSETTO:+0000
TZNAME:GMT
DTSTART:20261025T010000
END:STANDARD
END:VTIMEZONE
BEGIN:VEVENT
DTSTART;TZID=Europe/London:20251005T104500
DTEND;TZID=Europe/London:20251005T120000
DTSTAMP:20260423T234224
CREATED:20210604T090031Z
LAST-MODIFIED:20250811T051947Z
UID:2042-1759661100-1759665600@www.castlecommunitychurch.org.uk
SUMMARY:Morning Worship
DESCRIPTION:Our Preacher is Rev’d Alma Fritchley with Communion. \nThe service starts at 10.45am. \nWe then enjoy Tea\, Coffee and Biscuits in the School Room. \nThis allows us to catch up with friends and have a chat. \nAll are welcome. \n 
URL:https://www.castlecommunitychurch.org.uk/event/morning-worship-64/
CATEGORIES:Worship
END:VEVENT
BEGIN:VEVENT
DTSTART;TZID=Europe/London:20251012T104500
DTEND;TZID=Europe/London:20251012T120000
DTSTAMP:20260423T234224
CREATED:20170511T090031Z
LAST-MODIFIED:20250811T052042Z
UID:965-1760265900-1760270400@www.castlecommunitychurch.org.uk
SUMMARY:Morning Worship
DESCRIPTION:Our Preacher is Mr Paul Bailey. \nWe then enjoy Tea\, Coffee and Biscuits in the School Room. \nThis allows us to catch up with friends and have a chat. \nThe service starts at 10.45am. \nAll are welcome. \n 
URL:https://www.castlecommunitychurch.org.uk/event/morning-worship-19/
CATEGORIES:Worship
END:VEVENT
BEGIN:VEVENT
DTSTART;TZID=Europe/London:20251019T104500
DTEND;TZID=Europe/London:20251019T120000
DTSTAMP:20260423T234224
CREATED:20170511T090031Z
LAST-MODIFIED:20250811T052128Z
UID:2040-1760870700-1760875200@www.castlecommunitychurch.org.uk
SUMMARY:Morning Worship
DESCRIPTION:Our Preacher is Mrs Joan Colwell. \nThe service starts at 10.45am. \nWe then enjoy Tea\, Coffee and Biscuits in the School Room. \nThis allows us to catch up with friends and have a chat. \nAll are welcome.
URL:https://www.castlecommunitychurch.org.uk/event/morning-worship-63/
CATEGORIES:Worship
END:VEVENT
BEGIN:VEVENT
DTSTART;TZID=Europe/London:20251026T104500
DTEND;TZID=Europe/London:20251026T120000
DTSTAMP:20260423T234224
CREATED:20170511T090031Z
LAST-MODIFIED:20250811T052220Z
UID:1460-1761475500-1761480000@www.castlecommunitychurch.org.uk
SUMMARY:Morning Worship
DESCRIPTION:Today our Preacher is Mrs Susie Treeton. \nThe service starts at 10.45am. \nWe then enjoy Tea\, Coffee and Biscuits in the School Room. \nThis allows us to catch up with friends and have a chat. \nAll are welcome. \n 
URL:https://www.castlecommunitychurch.org.uk/event/morning-worship-42/
CATEGORIES:Worship
END:VEVENT
END:VCALENDAR