BEGIN:VCALENDAR
VERSION:2.0
PRODID:-//Castle Community Church - ECPv6.15.20//NONSGML v1.0//EN
CALSCALE:GREGORIAN
METHOD:PUBLISH
X-WR-CALNAME:Castle Community Church
X-ORIGINAL-URL:https://www.castlecommunitychurch.org.uk
X-WR-CALDESC:Events for Castle Community Church
REFRESH-INTERVAL;VALUE=DURATION:PT1H
X-Robots-Tag:noindex
X-PUBLISHED-TTL:PT1H
BEGIN:VTIMEZONE
TZID:Europe/London
BEGIN:DAYLIGHT
TZOFFSETFROM:+0000
TZOFFSETTO:+0100
TZNAME:BST
DTSTART:20240331T010000
END:DAYLIGHT
BEGIN:STANDARD
TZOFFSETFROM:+0100
TZOFFSETTO:+0000
TZNAME:GMT
DTSTART:20241027T010000
END:STANDARD
BEGIN:DAYLIGHT
TZOFFSETFROM:+0000
TZOFFSETTO:+0100
TZNAME:BST
DTSTART:20250330T010000
END:DAYLIGHT
BEGIN:STANDARD
TZOFFSETFROM:+0100
TZOFFSETTO:+0000
TZNAME:GMT
DTSTART:20251026T010000
END:STANDARD
BEGIN:DAYLIGHT
TZOFFSETFROM:+0000
TZOFFSETTO:+0100
TZNAME:BST
DTSTART:20260329T010000
END:DAYLIGHT
BEGIN:STANDARD
TZOFFSETFROM:+0100
TZOFFSETTO:+0000
TZNAME:GMT
DTSTART:20261025T010000
END:STANDARD
END:VTIMEZONE
BEGIN:VEVENT
DTSTART;TZID=Europe/London:20251102T104500
DTEND;TZID=Europe/London:20251102T120000
DTSTAMP:20260423T215906
CREATED:20170511T090031Z
LAST-MODIFIED:20250811T052446Z
UID:1892-1762080300-1762084800@www.castlecommunitychurch.org.uk
SUMMARY:Morning Worship
DESCRIPTION:Our Preacher is Rev’d Helen Kirk. \nThe service starts at 10.45am and includes communion. \nWe then enjoy Tea\, Coffee and Biscuits in the School Room. \nThis allows us to catch up with friends and have a chat. \nAll are welcome. \n 
URL:https://www.castlecommunitychurch.org.uk/event/morning-worship-59/
CATEGORIES:Worship
END:VEVENT
BEGIN:VEVENT
DTSTART;TZID=Europe/London:20251109T104500
DTEND;TZID=Europe/London:20251109T120000
DTSTAMP:20260423T215906
CREATED:20170511T090031Z
LAST-MODIFIED:20250811T052614Z
UID:1391-1762685100-1762689600@www.castlecommunitychurch.org.uk
SUMMARY:Remembrance Sunday
DESCRIPTION:Our Preacher is Rev’d Alma Fritchley. \nThe service starts at 10.45am. \nWe then enjoy Tea\, Coffee and Biscuits in the School Room. \nThis allows us to catch up with friends and have a chat. \nAll are welcome. \n 
URL:https://www.castlecommunitychurch.org.uk/event/morning-worship-37/
CATEGORIES:Worship
END:VEVENT
BEGIN:VEVENT
DTSTART;TZID=Europe/London:20251116T104500
DTEND;TZID=Europe/London:20251116T120000
DTSTAMP:20260423T215906
CREATED:20170511T085913Z
LAST-MODIFIED:20250811T052733Z
UID:2130-1763289900-1763294400@www.castlecommunitychurch.org.uk
SUMMARY:Morning Worship
DESCRIPTION:Our Preacher is Mrs Gill Main. \nOur service starts at 10.45am. \nWe then enjoy Tea\, Coffee and Biscuits in the School Room. \nThis allows us to catch up with friends and have a chat. \nAll are welcome.
URL:https://www.castlecommunitychurch.org.uk/event/morning-worship-74/
CATEGORIES:Worship
END:VEVENT
BEGIN:VEVENT
DTSTART;TZID=Europe/London:20251130T104500
DTEND;TZID=Europe/London:20251130T120000
DTSTAMP:20260423T215906
CREATED:20170511T085913Z
LAST-MODIFIED:20250811T053133Z
UID:2132-1764499500-1764504000@www.castlecommunitychurch.org.uk
SUMMARY:Morning Worship
DESCRIPTION:Our Preacher is Mrs Melinda Morgan. \nOur service starts at 10.45am. \nWe then enjoy Tea\, Coffee and Biscuits in the School Room. \nThis allows us to catch up with friends and have a chat. \nAll are welcome.
URL:https://www.castlecommunitychurch.org.uk/event/morning-worship-75/
CATEGORIES:Worship
END:VEVENT
END:VCALENDAR