BEGIN:VCALENDAR
VERSION:2.0
PRODID:-//Castle Community Church - ECPv6.15.20//NONSGML v1.0//EN
CALSCALE:GREGORIAN
METHOD:PUBLISH
X-WR-CALNAME:Castle Community Church
X-ORIGINAL-URL:https://www.castlecommunitychurch.org.uk
X-WR-CALDESC:Events for Castle Community Church
REFRESH-INTERVAL;VALUE=DURATION:PT1H
X-Robots-Tag:noindex
X-PUBLISHED-TTL:PT1H
BEGIN:VTIMEZONE
TZID:Europe/London
BEGIN:DAYLIGHT
TZOFFSETFROM:+0000
TZOFFSETTO:+0100
TZNAME:BST
DTSTART:20240331T010000
END:DAYLIGHT
BEGIN:STANDARD
TZOFFSETFROM:+0100
TZOFFSETTO:+0000
TZNAME:GMT
DTSTART:20241027T010000
END:STANDARD
BEGIN:DAYLIGHT
TZOFFSETFROM:+0000
TZOFFSETTO:+0100
TZNAME:BST
DTSTART:20250330T010000
END:DAYLIGHT
BEGIN:STANDARD
TZOFFSETFROM:+0100
TZOFFSETTO:+0000
TZNAME:GMT
DTSTART:20251026T010000
END:STANDARD
BEGIN:DAYLIGHT
TZOFFSETFROM:+0000
TZOFFSETTO:+0100
TZNAME:BST
DTSTART:20260329T010000
END:DAYLIGHT
BEGIN:STANDARD
TZOFFSETFROM:+0100
TZOFFSETTO:+0000
TZNAME:GMT
DTSTART:20261025T010000
END:STANDARD
END:VTIMEZONE
BEGIN:VEVENT
DTSTART;TZID=Europe/London:20251207T104500
DTEND;TZID=Europe/London:20251207T120000
DTSTAMP:20260423T200516
CREATED:20210604T090031Z
LAST-MODIFIED:20251114T042054Z
UID:1311-1765104300-1765108800@www.castlecommunitychurch.org.uk
SUMMARY:Morning Worship
DESCRIPTION:Our Preacher is Rev’d Alma Fritchley with Communion. \nThe service starts at 10.45am. \nWe then enjoy Tea\, Coffee and Biscuits in the School Room. \nThis allows us to catch up with friends and have a chat. \nAll are welcome. \n 
URL:https://www.castlecommunitychurch.org.uk/event/morning-worship-31/
CATEGORIES:Worship
END:VEVENT
BEGIN:VEVENT
DTSTART;TZID=Europe/London:20251214T104500
DTEND;TZID=Europe/London:20251214T120000
DTSTAMP:20260423T200516
CREATED:20170511T090031Z
LAST-MODIFIED:20251114T041847Z
UID:1380-1765709100-1765713600@www.castlecommunitychurch.org.uk
SUMMARY:Morning Worship
DESCRIPTION:Our Preacher is Rev’d Pat Billsborrow. \nThe service starts at 10.45am. \nWe then enjoy Tea\, Coffee and Biscuits in the School Room. \nThis allows us to catch up with friends and have a chat. \nAll are welcome. \n 
URL:https://www.castlecommunitychurch.org.uk/event/morning-worship-34/
CATEGORIES:Worship
END:VEVENT
BEGIN:VEVENT
DTSTART;TZID=Europe/London:20251221T104500
DTEND;TZID=Europe/London:20251221T120000
DTSTAMP:20260423T200516
CREATED:20170511T090031Z
LAST-MODIFIED:20251114T042220Z
UID:2046-1766313900-1766318400@www.castlecommunitychurch.org.uk
SUMMARY:Morning Worship
DESCRIPTION:Our Preacher is Rev’d David Spence. \nThe service starts at 10.45am. \nWe then enjoy Tea\, Coffee and Biscuits in the School Room. \nThis allows us to catch up with friends and have a chat. \nAll are welcome. \n 
URL:https://www.castlecommunitychurch.org.uk/event/morning-worship-66/
CATEGORIES:Worship
END:VEVENT
BEGIN:VEVENT
DTSTART;TZID=Europe/London:20251225T103000
DTEND;TZID=Europe/London:20251225T110000
DTSTAMP:20260423T200516
CREATED:20170511T090031Z
LAST-MODIFIED:20251114T042538Z
UID:994-1766658600-1766660400@www.castlecommunitychurch.org.uk
SUMMARY:Christmas Service
DESCRIPTION:Join Castle Community Church for its Christmas Day Service with Rev Alma Fritchley. \nThe service starts at 10.30am. \nAll are welcome. \n 
URL:https://www.castlecommunitychurch.org.uk/event/christmas-service/
CATEGORIES:Worship
END:VEVENT
BEGIN:VEVENT
DTSTART;TZID=Europe/London:20251228T104500
DTEND;TZID=Europe/London:20251228T120000
DTSTAMP:20260423T200516
CREATED:20170511T090031Z
LAST-MODIFIED:20251114T042411Z
UID:1440-1766918700-1766923200@www.castlecommunitychurch.org.uk
SUMMARY:Morning Worship
DESCRIPTION:Our Preacher is Rev’d Janet Aspey and is Methodist Circuit Service. \nThe service starts at 10.45am. \nWe then enjoy Tea\, Coffee and Biscuits in the School Room. \nThis allows us to catch up with friends and have a chat. \nAll are welcome. \n 
URL:https://www.castlecommunitychurch.org.uk/event/morning-worship-38/
CATEGORIES:Worship
END:VEVENT
END:VCALENDAR