BEGIN:VCALENDAR
VERSION:2.0
PRODID:-//Castle Community Church - ECPv6.15.20//NONSGML v1.0//EN
CALSCALE:GREGORIAN
METHOD:PUBLISH
X-WR-CALNAME:Castle Community Church
X-ORIGINAL-URL:https://www.castlecommunitychurch.org.uk
X-WR-CALDESC:Events for Castle Community Church
REFRESH-INTERVAL;VALUE=DURATION:PT1H
X-Robots-Tag:noindex
X-PUBLISHED-TTL:PT1H
BEGIN:VTIMEZONE
TZID:Europe/London
BEGIN:DAYLIGHT
TZOFFSETFROM:+0000
TZOFFSETTO:+0100
TZNAME:BST
DTSTART:20250330T010000
END:DAYLIGHT
BEGIN:STANDARD
TZOFFSETFROM:+0100
TZOFFSETTO:+0000
TZNAME:GMT
DTSTART:20251026T010000
END:STANDARD
BEGIN:DAYLIGHT
TZOFFSETFROM:+0000
TZOFFSETTO:+0100
TZNAME:BST
DTSTART:20260329T010000
END:DAYLIGHT
BEGIN:STANDARD
TZOFFSETFROM:+0100
TZOFFSETTO:+0000
TZNAME:GMT
DTSTART:20261025T010000
END:STANDARD
BEGIN:DAYLIGHT
TZOFFSETFROM:+0000
TZOFFSETTO:+0100
TZNAME:BST
DTSTART:20270328T010000
END:DAYLIGHT
BEGIN:STANDARD
TZOFFSETFROM:+0100
TZOFFSETTO:+0000
TZNAME:GMT
DTSTART:20271031T010000
END:STANDARD
END:VTIMEZONE
BEGIN:VEVENT
DTSTART;TZID=Europe/London:20260301T104500
DTEND;TZID=Europe/London:20260301T120000
DTSTAMP:20260423T144714
CREATED:20210604T090031Z
LAST-MODIFIED:20260218T053012Z
UID:2159-1772361900-1772366400@www.castlecommunitychurch.org.uk
SUMMARY:Morning Worship
DESCRIPTION:Our Preacher is Rev’d Helen Hoe with Communion. \nThe service starts at 10.45am. \nWe then enjoy Tea\, Coffee and Biscuits in the School Room. \nThis allows us to catch up with friends and have a chat. \nAll are welcome. \n 
URL:https://www.castlecommunitychurch.org.uk/event/morning-worship-77/
CATEGORIES:Worship
END:VEVENT
BEGIN:VEVENT
DTSTART;TZID=Europe/London:20260308T104500
DTEND;TZID=Europe/London:20260308T120000
DTSTAMP:20260423T144714
CREATED:20210604T090031Z
LAST-MODIFIED:20260218T053117Z
UID:1754-1772966700-1772971200@www.castlecommunitychurch.org.uk
SUMMARY:Morning Worship
DESCRIPTION:Our Preacher is Rev’d Alma Fritchley. \nThe service starts at 10.45am. \nWe then enjoy Tea\, Coffee and Biscuits in the School Room. \nThis allows us to catch up with friends and have a chat. \nAll are welcome. \n 
URL:https://www.castlecommunitychurch.org.uk/event/morning-worship-48/
CATEGORIES:Worship
END:VEVENT
BEGIN:VEVENT
DTSTART;TZID=Europe/London:20260315T104500
DTEND;TZID=Europe/London:20260315T120000
DTSTAMP:20260423T144714
CREATED:20170511T090031Z
LAST-MODIFIED:20260218T060818Z
UID:2161-1773571500-1773576000@www.castlecommunitychurch.org.uk
SUMMARY:Morning Worship
DESCRIPTION:Our preacher is Mrs Cath Speed \nThe service starts at 10.45am. \nWe then enjoy Tea\, Coffee and Biscuits in the School Room. \nThis allows us to catch up with friends and have a chat. All are welcome.
URL:https://www.castlecommunitychurch.org.uk/event/morning-worship-78/
CATEGORIES:Worship
END:VEVENT
BEGIN:VEVENT
DTSTART;TZID=Europe/London:20260322T104500
DTEND;TZID=Europe/London:20260322T120000
DTSTAMP:20260423T144714
CREATED:20170511T090031Z
LAST-MODIFIED:20260218T053241Z
UID:2154-1774176300-1774180800@www.castlecommunitychurch.org.uk
SUMMARY:Morning Worship
DESCRIPTION:Our preacher is Mrs Claire Roberts. \nThe service starts at 10.45am. \nWe then enjoy Tea\, Coffee and Biscuits in the School Room. \nThis allows us to catch up with friends and have a chat. All are welcome.
URL:https://www.castlecommunitychurch.org.uk/event/morning-worship-76/
CATEGORIES:Worship
END:VEVENT
BEGIN:VEVENT
DTSTART;TZID=Europe/London:20260329T104500
DTEND;TZID=Europe/London:20260329T120000
DTSTAMP:20260423T144714
CREATED:20170511T090031Z
LAST-MODIFIED:20260218T053424Z
UID:1067-1774781100-1774785600@www.castlecommunitychurch.org.uk
SUMMARY:Morning Worship
DESCRIPTION:Our Preacher is Mr Graham Sheen. \nThe service starts at 10.45am. \nWe then enjoy Tea\, Coffee and Biscuits in the School Room. \nThis allows us to catch up with friends and have a chat. \nAll are welcome. \n 
URL:https://www.castlecommunitychurch.org.uk/event/morning-worship-pentecost/
CATEGORIES:Worship
END:VEVENT
END:VCALENDAR